BEGIN:VCALENDAR
VERSION:2.0
PRODID:-//Portal JCoP - ECPv6.2.9//NONSGML v1.0//EN
CALSCALE:GREGORIAN
METHOD:PUBLISH
X-ORIGINAL-URL:https://jcop.vms.my
X-WR-CALDESC:Events for Portal JCoP
REFRESH-INTERVAL;VALUE=DURATION:PT1H
X-Robots-Tag:noindex
X-PUBLISHED-TTL:PT1H
BEGIN:VTIMEZONE
TZID:Asia/Shanghai
BEGIN:STANDARD
TZOFFSETFROM:+0800
TZOFFSETTO:+0800
TZNAME:CST
DTSTART:20180101T000000
END:STANDARD
END:VTIMEZONE
BEGIN:VEVENT
DTSTART;VALUE=DATE:20180115
DTEND;VALUE=DATE:20180120
DTSTAMP:20260426T062353
CREATED:20171228T141203Z
LAST-MODIFIED:20171228T141203Z
UID:1532-1515974400-1516406399@jcop.vms.my
SUMMARY:Bengkel Transfer of Skills (ToS) Modul e-Learning Jabatan Kerja Raya Malaysia
DESCRIPTION:
URL:https://jcop.vms.my/event/bengkel-transfer-of-skills-tos-modul-e-learning-jabatan-kerja-raya-malaysia/
LOCATION:CREaTE\, Alor Gajah\, Melaka\, Malaysia
END:VEVENT
END:VCALENDAR