BEGIN:VCALENDAR
VERSION:2.0
PRODID:-//Portal JCoP - ECPv6.2.9//NONSGML v1.0//EN
CALSCALE:GREGORIAN
METHOD:PUBLISH
X-WR-CALNAME:Portal JCoP
X-ORIGINAL-URL:https://jcop.vms.my
X-WR-CALDESC:Events for Portal JCoP
REFRESH-INTERVAL;VALUE=DURATION:PT1H
X-Robots-Tag:noindex
X-PUBLISHED-TTL:PT1H
BEGIN:VTIMEZONE
TZID:Asia/Shanghai
BEGIN:STANDARD
TZOFFSETFROM:+0800
TZOFFSETTO:+0800
TZNAME:CST
DTSTART:20180101T000000
END:STANDARD
END:VTIMEZONE
BEGIN:VEVENT
DTSTART;VALUE=DATE:20180124
DTEND;VALUE=DATE:20180125
DTSTAMP:20260426T062323
CREATED:20171228T141300Z
LAST-MODIFIED:20171228T141300Z
UID:1534-1516752000-1516838399@jcop.vms.my
SUMMARY:Knowledge Management (KM) Executive Talk Jabatan Kerja Raya Malaysia
DESCRIPTION:
URL:https://jcop.vms.my/event/knowledge-management-km-executive-talk-jabatan-kerja-raya-malaysia/
LOCATION:CREaTE\, Alor Gajah\, Melaka\, Malaysia
END:VEVENT
END:VCALENDAR