BEGIN:VCALENDAR
VERSION:2.0
PRODID:-//Portal JCoP - ECPv6.2.9//NONSGML v1.0//EN
CALSCALE:GREGORIAN
METHOD:PUBLISH
X-ORIGINAL-URL:https://jcop.vms.my
X-WR-CALDESC:Events for Portal JCoP
REFRESH-INTERVAL;VALUE=DURATION:PT1H
X-Robots-Tag:noindex
X-PUBLISHED-TTL:PT1H
BEGIN:VTIMEZONE
TZID:Asia/Shanghai
BEGIN:STANDARD
TZOFFSETFROM:+0800
TZOFFSETTO:+0800
TZNAME:CST
DTSTART:20180101T000000
END:STANDARD
END:VTIMEZONE
BEGIN:VEVENT
DTSTART;VALUE=DATE:20180125
DTEND;VALUE=DATE:20180127
DTSTAMP:20260426T062353
CREATED:20171228T141348Z
LAST-MODIFIED:20171228T141348Z
UID:1536-1516838400-1517011199@jcop.vms.my
SUMMARY:Bengkel Analisis Project Lessons Learned (PLL) Jabatan Kerja Raya Malaysia
DESCRIPTION:
URL:https://jcop.vms.my/event/bengkel-analisis-project-lessons-learned-pll-jabatan-kerja-raya-malaysia/
LOCATION:CREaTE\, Alor Gajah\, Melaka\, Malaysia
END:VEVENT
END:VCALENDAR