BEGIN:VCALENDAR
VERSION:2.0
PRODID:-//Portal JCoP - ECPv6.2.9//NONSGML v1.0//EN
CALSCALE:GREGORIAN
METHOD:PUBLISH
X-ORIGINAL-URL:https://jcop.vms.my
X-WR-CALDESC:Events for Portal JCoP
REFRESH-INTERVAL;VALUE=DURATION:PT1H
X-Robots-Tag:noindex
X-PUBLISHED-TTL:PT1H
BEGIN:VTIMEZONE
TZID:Asia/Shanghai
BEGIN:STANDARD
TZOFFSETFROM:+0800
TZOFFSETTO:+0800
TZNAME:CST
DTSTART:20180101T000000
END:STANDARD
END:VTIMEZONE
BEGIN:VEVENT
DTSTART;TZID=Asia/Shanghai:20180702T080000
DTEND;TZID=Asia/Shanghai:20180703T170000
DTSTAMP:20260425T232046
CREATED:20180622T155111Z
LAST-MODIFIED:20180622T155111Z
UID:1695-1530518400-1530637200@jcop.vms.my
SUMMARY:Bengkel Project Lessons Learned JKR Cawangan Kerja Pendidikan
DESCRIPTION:
URL:https://jcop.vms.my/event/bengkel-project-lessons-learned-jkr-cawangan-kerja-pendidikan/
LOCATION:Maju Tower\, Kuala Lumpur
END:VEVENT
END:VCALENDAR