BEGIN:VCALENDAR
VERSION:2.0
PRODID:-//Portal JCoP - ECPv6.2.9//NONSGML v1.0//EN
CALSCALE:GREGORIAN
METHOD:PUBLISH
X-WR-CALNAME:Portal JCoP
X-ORIGINAL-URL:https://jcop.vms.my
X-WR-CALDESC:Events for Portal JCoP
REFRESH-INTERVAL;VALUE=DURATION:PT1H
X-Robots-Tag:noindex
X-PUBLISHED-TTL:PT1H
BEGIN:VTIMEZONE
TZID:Asia/Shanghai
BEGIN:STANDARD
TZOFFSETFROM:+0800
TZOFFSETTO:+0800
TZNAME:CST
DTSTART:20180101T000000
END:STANDARD
END:VTIMEZONE
BEGIN:VEVENT
DTSTART;TZID=Asia/Shanghai:20180928T080000
DTEND;TZID=Asia/Shanghai:20180928T170000
DTSTAMP:20260425T064320
CREATED:20180917T133507Z
LAST-MODIFIED:20180917T133507Z
UID:1725-1538121600-1538154000@jcop.vms.my
SUMMARY:Hari JCoP Cawangan Arkitek
DESCRIPTION:
URL:https://jcop.vms.my/event/hari-jcop-cawangan-arkitek/
LOCATION:Menara TIMA\, Kuala Lumpur\, Malaysia
END:VEVENT
END:VCALENDAR