BEGIN:VCALENDAR
VERSION:2.0
PRODID:-//Portal JCoP - ECPv6.2.9//NONSGML v1.0//EN
CALSCALE:GREGORIAN
METHOD:PUBLISH
X-WR-CALNAME:Portal JCoP
X-ORIGINAL-URL:https://jcop.vms.my
X-WR-CALDESC:Events for Portal JCoP
REFRESH-INTERVAL;VALUE=DURATION:PT1H
X-Robots-Tag:noindex
X-PUBLISHED-TTL:PT1H
BEGIN:VTIMEZONE
TZID:Asia/Shanghai
BEGIN:STANDARD
TZOFFSETFROM:+0800
TZOFFSETTO:+0800
TZNAME:CST
DTSTART:20140101T000000
END:STANDARD
END:VTIMEZONE
BEGIN:VEVENT
DTSTART;TZID=Asia/Shanghai:20140522T080000
DTEND;TZID=Asia/Shanghai:20140524T170000
DTSTAMP:20260424T005520
CREATED:20141207T212729Z
LAST-MODIFIED:20141207T212729Z
UID:376-1400745600-1400950800@jcop.vms.my
SUMMARY:Mesyuarat & Bengkel CoP (khusus untuk Domain AFM\, SHM dan HRM)
DESCRIPTION:Mesyuarat & Bengkel CoP (khusus untuk Domain AFM\, SHM dan HRM) 22-24hb Mei 2014
URL:https://jcop.vms.my/event/mesyuarat-bengkel-cop-khusus-untuk-domain-afm-shm-dan-hrm/
LOCATION:Carlton Holidays Hotel\, Shah Alam\, Seksyen 13\, Shah Alam\, Selangor\, 40100\, Malaysia
CATEGORIES:JCoP
END:VEVENT
END:VCALENDAR