BEGIN:VCALENDAR
VERSION:2.0
PRODID:-//Portal JCoP - ECPv6.2.9//NONSGML v1.0//EN
CALSCALE:GREGORIAN
METHOD:PUBLISH
X-ORIGINAL-URL:https://jcop.vms.my
X-WR-CALDESC:Events for Portal JCoP
REFRESH-INTERVAL;VALUE=DURATION:PT1H
X-Robots-Tag:noindex
X-PUBLISHED-TTL:PT1H
BEGIN:VTIMEZONE
TZID:Asia/Shanghai
BEGIN:STANDARD
TZOFFSETFROM:+0800
TZOFFSETTO:+0800
TZNAME:CST
DTSTART:20150101T000000
END:STANDARD
END:VTIMEZONE
BEGIN:VEVENT
DTSTART;VALUE=DATE:20150511
DTEND;VALUE=DATE:20150512
DTSTAMP:20260423T030319
CREATED:20150515T144552Z
LAST-MODIFIED:20150515T144552Z
UID:689-1431302400-1431388799@jcop.vms.my
SUMMARY:Bengkel JCoP Moderator
DESCRIPTION:
URL:https://jcop.vms.my/event/bengkel-jcop-moderator/
LOCATION:Plaza Pantai\, Bilik Pedathbyte\, Tingkat 8\, Blok C\, Pusat Latihan ICT\, Plaza Pantai\, W/P Kuala Lumpur\, W/P Kuala Lumpur\, W/P Kuala Lumpur\, 59100\, Malaysia
CATEGORIES:JCoP
END:VEVENT
END:VCALENDAR