BEGIN:VCALENDAR
VERSION:2.0
PRODID:-//Portal JCoP - ECPv6.2.9//NONSGML v1.0//EN
CALSCALE:GREGORIAN
METHOD:PUBLISH
X-ORIGINAL-URL:https://jcop.vms.my
X-WR-CALDESC:Events for Portal JCoP
REFRESH-INTERVAL;VALUE=DURATION:PT1H
X-Robots-Tag:noindex
X-PUBLISHED-TTL:PT1H
BEGIN:VTIMEZONE
TZID:Asia/Shanghai
BEGIN:STANDARD
TZOFFSETFROM:+0800
TZOFFSETTO:+0800
TZNAME:CST
DTSTART:20180101T000000
END:STANDARD
END:VTIMEZONE
BEGIN:VEVENT
DTSTART;TZID=Asia/Shanghai:20181109T090000
DTEND;TZID=Asia/Shanghai:20181109T120000
DTSTAMP:20260425T193336
CREATED:20181105T014848Z
LAST-MODIFIED:20181105T014848Z
UID:1749-1541754000-1541764800@jcop.vms.my
SUMMARY:Lawatan Penandaarasan Inisiatif Pengurusan Pengetahuan JKR Malaysia oleh Agensi Kelayakan Malaysia (MQA)
DESCRIPTION:
URL:https://jcop.vms.my/event/lawatan-penandaarasan-inisiatif-pengurusan-pengetahuan-jkr-malaysia-oleh-agensi-kelayakan-malaysia-mqa/
LOCATION:Menara PJD\, Kuala Lumpur
END:VEVENT
BEGIN:VEVENT
DTSTART;TZID=Asia/Shanghai:20181114T143000
DTEND;TZID=Asia/Shanghai:20181114T170000
DTSTAMP:20260425T193336
CREATED:20181105T014805Z
LAST-MODIFIED:20181105T014805Z
UID:1746-1542205800-1542214800@jcop.vms.my
SUMMARY:Mesyuarat Pentauliahan Bahan e-Learning JKR Malaysia Bil. 3/2018
DESCRIPTION:
URL:https://jcop.vms.my/event/mesyuarat-pentauliahan-bahan-e-learning-jkr-malaysia-bil-3-2018/
LOCATION:Menara PJD\, Kuala Lumpur
END:VEVENT
BEGIN:VEVENT
DTSTART;TZID=Asia/Shanghai:20181206T080000
DTEND;TZID=Asia/Shanghai:20181206T170000
DTSTAMP:20260425T193336
CREATED:20181105T014617Z
LAST-MODIFIED:20181105T014617Z
UID:1744-1544083200-1544115600@jcop.vms.my
SUMMARY:Mesyuarat Jawatankuasa Pelaksanaan dan Pemantauan Pembudayaan Ilmu Bil. 4/2018
DESCRIPTION:
URL:https://jcop.vms.my/event/mesyuarat-jawatankuasa-pelaksanaan-dan-pemantauan-pembudayaan-ilmu-bil-4-2018/
LOCATION:Menara Kerja Raya
END:VEVENT
BEGIN:VEVENT
DTSTART;VALUE=DATE:20190128
DTEND;VALUE=DATE:20190130
DTSTAMP:20260425T193336
CREATED:20181229T121614Z
LAST-MODIFIED:20181229T121614Z
UID:1800-1548633600-1548806399@jcop.vms.my
SUMMARY:Kursus Pengenalan Knowledge Management Jabatan Kerja Raya Malaysia
DESCRIPTION:
URL:https://jcop.vms.my/event/kursus-pengenalan-knowledge-management-jabatan-kerja-raya-malaysia/
LOCATION:CREaTE\, Alor Gajah\, Melaka\, Malaysia
END:VEVENT
BEGIN:VEVENT
DTSTART;VALUE=DATE:20190211
DTEND;VALUE=DATE:20190212
DTSTAMP:20260425T193336
CREATED:20181229T121536Z
LAST-MODIFIED:20181229T121536Z
UID:1798-1549843200-1549929599@jcop.vms.my
SUMMARY:Bengkel Content Management Policy & Governance Jabatan Kerja Raya Malaysia
DESCRIPTION:
URL:https://jcop.vms.my/event/bengkel-content-management-policy-governance-jabatan-kerja-raya-malaysia/
LOCATION:Menara PJD\, Kuala Lumpur
END:VEVENT
BEGIN:VEVENT
DTSTART;VALUE=DATE:20190218
DTEND;VALUE=DATE:20190220
DTSTAMP:20260425T193336
CREATED:20181229T121429Z
LAST-MODIFIED:20181229T121429Z
UID:1796-1550448000-1550620799@jcop.vms.my
SUMMARY:Bengkel Pemantapan Portal JPedia dan JCoP Cafe Jabatan Kerja Raya Malaysia
DESCRIPTION:
URL:https://jcop.vms.my/event/bengkel-pemantapan-portal-jpedia-dan-jcop-cafe-jabatan-kerja-raya-malaysia/
LOCATION:CREaTE\, Alor Gajah\, Melaka\, Malaysia
END:VEVENT
END:VCALENDAR