BEGIN:VCALENDAR
VERSION:2.0
PRODID:-//Portal JCoP - ECPv6.2.9//NONSGML v1.0//EN
CALSCALE:GREGORIAN
METHOD:PUBLISH
X-WR-CALNAME:Portal JCoP
X-ORIGINAL-URL:https://jcop.vms.my
X-WR-CALDESC:Events for Portal JCoP
REFRESH-INTERVAL;VALUE=DURATION:PT1H
X-Robots-Tag:noindex
X-PUBLISHED-TTL:PT1H
BEGIN:VTIMEZONE
TZID:Asia/Shanghai
BEGIN:STANDARD
TZOFFSETFROM:+0800
TZOFFSETTO:+0800
TZNAME:CST
DTSTART:20180101T000000
END:STANDARD
END:VTIMEZONE
BEGIN:VEVENT
DTSTART;VALUE=DATE:20180405
DTEND;VALUE=DATE:20180406
DTSTAMP:20260425T232047
CREATED:20180401T121506Z
LAST-MODIFIED:20180401T121506Z
UID:1613-1522886400-1522972799@jcop.vms.my
SUMMARY:Knowledge Management Exchange 2018 -   Showcasing Knowledge Management in Malaysia
DESCRIPTION:
URL:https://jcop.vms.my/event/knowledge-management-exchange-2018-showcasing-knowledge-management-in-malaysia/
END:VEVENT
BEGIN:VEVENT
DTSTART;VALUE=DATE:20180419
DTEND;VALUE=DATE:20180420
DTSTAMP:20260425T232047
CREATED:20180401T121556Z
LAST-MODIFIED:20180401T121556Z
UID:1615-1524096000-1524182399@jcop.vms.my
SUMMARY:Mesyuarat Pentauliahan e-Learning Bil. 2/2018 Jabatan Kerja Raya Malaysia
DESCRIPTION:
URL:https://jcop.vms.my/event/mesyuarat-pentauliahan-e-learning-bil-2-2018-jabatan-kerja-raya-malaysia/
LOCATION:CREaTE\, Alor Gajah\, Melaka\, Malaysia
END:VEVENT
BEGIN:VEVENT
DTSTART;VALUE=DATE:20180423
DTEND;VALUE=DATE:20180425
DTSTAMP:20260425T232047
CREATED:20180401T121655Z
LAST-MODIFIED:20180401T121655Z
UID:1617-1524441600-1524614399@jcop.vms.my
SUMMARY:Bengkel Communities of Practice (CoP) Health Check Jabatan Kerja Raya Malaysia
DESCRIPTION:
URL:https://jcop.vms.my/event/bengkel-communities-of-practice-cop-health-check-jabatan-kerja-raya-malaysia/
LOCATION:CREaTE\, Alor Gajah\, Melaka\, Malaysia
END:VEVENT
END:VCALENDAR