BEGIN:VCALENDAR
VERSION:2.0
PRODID:-//Portal JCoP - ECPv6.2.9//NONSGML v1.0//EN
CALSCALE:GREGORIAN
METHOD:PUBLISH
X-ORIGINAL-URL:https://jcop.vms.my
X-WR-CALDESC:Events for Portal JCoP
REFRESH-INTERVAL;VALUE=DURATION:PT1H
X-Robots-Tag:noindex
X-PUBLISHED-TTL:PT1H
BEGIN:VTIMEZONE
TZID:Asia/Shanghai
BEGIN:STANDARD
TZOFFSETFROM:+0800
TZOFFSETTO:+0800
TZNAME:CST
DTSTART:20140101T000000
END:STANDARD
END:VTIMEZONE
BEGIN:VEVENT
DTSTART;VALUE=DATE:20141013
DTEND;VALUE=DATE:20141015
DTSTAMP:20260424T005514
CREATED:20141008T120701Z
LAST-MODIFIED:20141008T121038Z
UID:273-1413158400-1413331199@jcop.vms.my
SUMMARY:PROGRAM BENGKEL PENGENALAN JKR Wiki BIL. 2/2014
DESCRIPTION:  \nTajuk              : Bengkel Pengenalan JKR Wiki (J-Pedia) bil. 2/2014 \nTarikh            : 13& 14 Oktober 2014 \nTempat           : Bilik Latihan VITEX\, Tingkat 18\, Menara PJD\, JKR \nPeserta           : J41-J54 Pelbagai Disiplin (khusus kepada CKM\, CKE\, CKBA dan Pengurus Pengetahuan) \n\n\n\nMasa\nProgram\nCatitan\n\n\n\n\nHari Pertama  (13/10)\n\n\n8.00 pg – 8.30 pg\nPendaftaran\nUrusetia\n\n\n8.30 pg – 10.00 pg\nPengenalan kepada ECKM\nKetua Program ECKM\n\n\n10:00 pg –10:30 pg\nMinum pagi\n\n\n\n10.30 Pg- 1.00 ptg\nPengenalan J-Pedia dan Taxonomy\niKenanga Technology Sdn. Bhd.\n\n\n1:00 ptg – 2:30 ptg\nMakan tengahari / Solat\n\n\n\n2:30 ptg – 4.30 ptg\nHands-on dan Penilaian J-Pedia\niKenanga Technology Sdn. Bhd.\n\n\n4.30 ptg – 5.00 ptg\nMinum Petang & Bersurai\n\n\n\n Hari Kedua (14/10)\n\n\n8:30 pg – 10:30 pg\nBengkel Hands-on Pembangunan Kandungan\niKenanga Technology Sdn. Bhd.\n\n\n10:30 pg –11:00 pg\nMinum pagi\n\n\n\n11:00 pg -1:00 ptg\nPengenalan Pembangunan Kerangka bagi Nota Latihan\, Lesson Learn\, Presentation Files dll\nEmost Services Sdn. Bhd.\n\n\n1:00 ptg – 2:30 ptg\nMakan tengahari & Bersurai\n\n\n\n2:30 ptg – 4.30 ptg\nBengkel Hands-on Pembangunan Kerangka bagi Nota Latihan\, Lesson Learn\, Presentation Files dll\niKenanga Technology Sdn. Bhd.\n\n\n4.30 ptg – 5.00 ptg\nMinum Petang & Bersurai
URL:https://jcop.vms.my/event/program-bengkel-pengenalan-jkr-wiki-bil-22014/
LOCATION:Bilik Latihan VITEX\, Tingkat 18\, Menara PJD\, Kuala Lumpur\, Kuala Lumpur\, Malaysia
END:VEVENT
END:VCALENDAR